BEGIN:VCALENDAR
VERSION:2.0
PRODID:-//Sood Association - ECPv6.15.16//NONSGML v1.0//EN
CALSCALE:GREGORIAN
METHOD:PUBLISH
X-WR-CALNAME:Sood Association
X-ORIGINAL-URL:https://sa.nesterlink.com
X-WR-CALDESC:Events for Sood Association
REFRESH-INTERVAL;VALUE=DURATION:PT1H
X-Robots-Tag:noindex
X-PUBLISHED-TTL:PT1H
BEGIN:VTIMEZONE
TZID:UTC
BEGIN:STANDARD
TZOFFSETFROM:+0000
TZOFFSETTO:+0000
TZNAME:UTC
DTSTART:20240101T000000
END:STANDARD
END:VTIMEZONE
BEGIN:VEVENT
DTSTART;TZID=UTC:20250912T080000
DTEND;TZID=UTC:20270922T170000
DTSTAMP:20260421T063146
CREATED:20250912T123806Z
LAST-MODIFIED:20260220T065754Z
UID:4203-1757664000-1821632400@sa.nesterlink.com
SUMMARY:SAUK Sample 5
DESCRIPTION:Every Sunday\, our church family gathers to worship God with open hearts and joyful spirits. Through prayer\, music\, and teaching\, we strengthen our faith and grow closer to one another. Whether you’re new to Faithful or have been with us for years\, Sunday worship is a time to pause\, reflect\, and feel God’s presence in your life. Come as you are\, bring your loved ones\, and experience the beauty of fellowship that restores and uplifts the soul.
URL:https://sa.nesterlink.com/event/sunday-worship-service/
ATTACH;FMTTYPE=image/jpeg:https://sa.nesterlink.com/wp-content/uploads/2025/09/custom-img-079-copyright.jpg
END:VEVENT
BEGIN:VEVENT
DTSTART;TZID=UTC:20250912T080000
DTEND;TZID=UTC:20270915T170000
DTSTAMP:20260421T063146
CREATED:20250912T124240Z
LAST-MODIFIED:20260220T065748Z
UID:4219-1757664000-1821027600@sa.nesterlink.com
SUMMARY:SAUK Sample 5
DESCRIPTION:At Faithful\, we celebrate the seasons of joy with gratitude and community. Our Holiday Celebration Event brings together worship\, music\, and fellowship to honor the meaning of Christmas\, Easter\, and other special days on the church calendar. These gatherings are filled with warmth\, tradition\, and opportunities to share God’s love with family and friends. From festive services to community meals\, each celebration reminds us of the hope and promise found in Christ. All are welcome to join and be part of the joy.
URL:https://sa.nesterlink.com/event/holiday-celebration-event/
CATEGORIES:Community & Outreach
ATTACH;FMTTYPE=image/jpeg:https://sa.nesterlink.com/wp-content/uploads/2025/09/img-071-copyright.jpg
END:VEVENT
END:VCALENDAR