BEGIN:VCALENDAR
VERSION:2.0
PRODID:-//Sood Association - ECPv6.15.16//NONSGML v1.0//EN
CALSCALE:GREGORIAN
METHOD:PUBLISH
X-ORIGINAL-URL:https://sa.nesterlink.com
X-WR-CALDESC:Events for Sood Association
REFRESH-INTERVAL;VALUE=DURATION:PT1H
X-Robots-Tag:noindex
X-PUBLISHED-TTL:PT1H
BEGIN:VTIMEZONE
TZID:UTC
BEGIN:STANDARD
TZOFFSETFROM:+0000
TZOFFSETTO:+0000
TZNAME:UTC
DTSTART:20240101T000000
END:STANDARD
END:VTIMEZONE
BEGIN:VEVENT
DTSTART;TZID=UTC:20250912T080000
DTEND;TZID=UTC:20270922T170000
DTSTAMP:20260420T041042
CREATED:20250912T123806Z
LAST-MODIFIED:20260220T065754Z
UID:4203-1757664000-1821632400@sa.nesterlink.com
SUMMARY:SAUK Sample 5
DESCRIPTION:Every Sunday\, our church family gathers to worship God with open hearts and joyful spirits. Through prayer\, music\, and teaching\, we strengthen our faith and grow closer to one another. Whether you’re new to Faithful or have been with us for years\, Sunday worship is a time to pause\, reflect\, and feel God’s presence in your life. Come as you are\, bring your loved ones\, and experience the beauty of fellowship that restores and uplifts the soul.
URL:https://sa.nesterlink.com/event/sunday-worship-service/
ATTACH;FMTTYPE=image/jpeg:https://sa.nesterlink.com/wp-content/uploads/2025/09/custom-img-079-copyright.jpg
END:VEVENT
BEGIN:VEVENT
DTSTART;TZID=UTC:20250912T080000
DTEND;TZID=UTC:20270908T170000
DTSTAMP:20260420T041042
CREATED:20250912T123828Z
LAST-MODIFIED:20260220T065718Z
UID:4205-1757664000-1820422800@sa.nesterlink.com
SUMMARY:SAUK Sample 1
DESCRIPTION:Our weekly Bible Study Group is an opportunity to dig deeper into God’s Word and explore how Scripture applies to everyday life. In a welcoming and supportive setting\, we read together\, share insights\, and ask questions that help us grow spiritually. This gathering isn’t just about knowledge—it’s about building community\, encouraging one another\, and discovering new ways to live faithfully. No matter your background or level of experience\, you are welcome to join and learn with us.
URL:https://sa.nesterlink.com/event/bible-study-group/
ATTACH;FMTTYPE=image/jpeg:https://sa.nesterlink.com/wp-content/uploads/2025/09/custom-img-080-copyright.jpg
END:VEVENT
BEGIN:VEVENT
DTSTART;TZID=UTC:20250912T080000
DTEND;TZID=UTC:20270909T170000
DTSTAMP:20260420T041042
CREATED:20250912T124147Z
LAST-MODIFIED:20260220T065733Z
UID:4215-1757664000-1820509200@sa.nesterlink.com
SUMMARY:SAUK Sample 3
DESCRIPTION:We believe faith is lived out through action. Our Community Service Day brings us together to serve our neighbors with love and compassion. Whether it’s providing meals\, supporting families in need\, or cleaning up local spaces\, each act of service is a way to reflect God’s grace. Volunteering alongside fellow believers strengthens bonds and reminds us that giving back is not only a blessing to others but also a blessing to ourselves. Join us and make a difference that truly matters.
URL:https://sa.nesterlink.com/event/community-service-day/
ATTACH;FMTTYPE=image/jpeg:https://sa.nesterlink.com/wp-content/uploads/2025/09/img-081-copyright.jpg
END:VEVENT
BEGIN:VEVENT
DTSTART;TZID=UTC:20250912T080000
DTEND;TZID=UTC:20270910T170000
DTSTAMP:20260420T041042
CREATED:20250912T124218Z
LAST-MODIFIED:20260220T065741Z
UID:4217-1757664000-1820595600@sa.nesterlink.com
SUMMARY:SAUK Sample 4
DESCRIPTION:In times of difficulty\, prayer offers strength\, comfort\, and hope. Our Prayer & Healing Service is a dedicated space where we lift up one another in prayer\, seek God’s healing touch\, and open our hearts to His peace. Together\, we intercede for the sick\, the weary\, and those in need of encouragement. Many find this service to be a turning point—a moment where burdens feel lighter and God’s presence becomes deeply real. You are invited to experience this powerful time of faith and renewal.
URL:https://sa.nesterlink.com/event/prayer-healing-service/
ATTACH;FMTTYPE=image/jpeg:https://sa.nesterlink.com/wp-content/uploads/2025/09/img-082-copyright.jpg
END:VEVENT
BEGIN:VEVENT
DTSTART;TZID=UTC:20250912T080000
DTEND;TZID=UTC:20270915T170000
DTSTAMP:20260420T041042
CREATED:20250912T124240Z
LAST-MODIFIED:20260220T065748Z
UID:4219-1757664000-1821027600@sa.nesterlink.com
SUMMARY:SAUK Sample 5
DESCRIPTION:At Faithful\, we celebrate the seasons of joy with gratitude and community. Our Holiday Celebration Event brings together worship\, music\, and fellowship to honor the meaning of Christmas\, Easter\, and other special days on the church calendar. These gatherings are filled with warmth\, tradition\, and opportunities to share God’s love with family and friends. From festive services to community meals\, each celebration reminds us of the hope and promise found in Christ. All are welcome to join and be part of the joy.
URL:https://sa.nesterlink.com/event/holiday-celebration-event/
CATEGORIES:Community & Outreach
ATTACH;FMTTYPE=image/jpeg:https://sa.nesterlink.com/wp-content/uploads/2025/09/img-071-copyright.jpg
END:VEVENT
BEGIN:VEVENT
DTSTART;TZID=UTC:20260301T080000
DTEND;TZID=UTC:20260401T170000
DTSTAMP:20260420T041042
CREATED:20250912T124122Z
LAST-MODIFIED:20260223T022736Z
UID:4213-1772352000-1775062800@sa.nesterlink.com
SUMMARY:SAUK Sample 2
DESCRIPTION:Faithful’s Youth Fellowship Night is designed to inspire the next generation of believers. Through worship\, fun activities\, and meaningful discussions\, young people find encouragement and guidance as they navigate life’s challenges. It’s a place where friendships are formed\, faith is strengthened\, and God’s love is experienced in fresh and exciting ways. Parents can feel assured that their teens are in a safe\, uplifting environment\, building memories and values that last a lifetime.
URL:https://sa.nesterlink.com/event/youth-fellowship-night/
LOCATION:Sood Association Office\, United Kingdom
CATEGORIES:Community & Outreach
ATTACH;FMTTYPE=image/jpeg:https://sa.nesterlink.com/wp-content/uploads/2025/09/img-069-copyright.jpg
ORGANIZER;CN="Sood Association":MAILTO:example@organizer.com
END:VEVENT
END:VCALENDAR